BEGIN:VCALENDAR
VERSION:2.0
PRODID:-//Ville de Figeac - ECPv6.15.20//NONSGML v1.0//EN
CALSCALE:GREGORIAN
METHOD:PUBLISH
X-ORIGINAL-URL:https://ville-figeac.fr
X-WR-CALDESC:Évènements pour Ville de Figeac
REFRESH-INTERVAL;VALUE=DURATION:PT1H
X-Robots-Tag:noindex
X-PUBLISHED-TTL:PT1H
BEGIN:VTIMEZONE
TZID:Europe/Paris
BEGIN:DAYLIGHT
TZOFFSETFROM:+0100
TZOFFSETTO:+0200
TZNAME:CEST
DTSTART:20250330T010000
END:DAYLIGHT
BEGIN:STANDARD
TZOFFSETFROM:+0200
TZOFFSETTO:+0100
TZNAME:CET
DTSTART:20251026T010000
END:STANDARD
BEGIN:DAYLIGHT
TZOFFSETFROM:+0100
TZOFFSETTO:+0200
TZNAME:CEST
DTSTART:20260329T010000
END:DAYLIGHT
BEGIN:STANDARD
TZOFFSETFROM:+0200
TZOFFSETTO:+0100
TZNAME:CET
DTSTART:20261025T010000
END:STANDARD
BEGIN:DAYLIGHT
TZOFFSETFROM:+0100
TZOFFSETTO:+0200
TZNAME:CEST
DTSTART:20270328T010000
END:DAYLIGHT
BEGIN:STANDARD
TZOFFSETFROM:+0200
TZOFFSETTO:+0100
TZNAME:CET
DTSTART:20271031T010000
END:STANDARD
END:VTIMEZONE
BEGIN:VEVENT
DTSTART;VALUE=DATE:20260508
DTEND;VALUE=DATE:20260511
DTSTAMP:20260425T025718
CREATED:20260127T105035Z
LAST-MODIFIED:20260127T105035Z
UID:10004865-1778198400-1778457599@ville-figeac.fr
SUMMARY:Festival de Laine avec la Draille
DESCRIPTION:La Draille*\, collectif de lainiers lotois\, propose son Festival de la Laine ! \nLe 8 mai 2026 à partir de 18h et les 9 et 10 mai de 10h à 18h – Espace François Mitterrand\nVenez partager un week-end autour des laines de France.\nProduits artisanaux\, conférences\, spectacles\, ateliers et démonstrations. \nEntrée gratuite \nAu programme : \n\nConférence : Animée par l’ATELIER laine d’Europe.\nExpositions : Photos\, artistiques\, culturelles.\nAteliers : Découvrir et mettre les mains dans la matière. (payants)\nSpectacles vivants (Entrées payantes)\nSalon des créateurs : Une soixantaine d’artisans et de producteurs lainiers\n\nVous êtes artisans et vous souhaitez participer\, contactez Carole !\ncarolonsdonc@gmail.com \n*La Draille ( la dralha )\, est le nom occitan donné aux sentes tracées et empruntées par les troupeaux transhumants qui se rassemblent pour rejoindre les estives de montagne. Ce nom illustre parfaitement l’énergie collective qui unit les acteurs de « la Draille » autour d’une passion commune : la laine. Énergie tournée vers de nouveaux horizons pour cette matière et ses savoir-faire qu’il y a encore quelques années en arrière tombaient en désuétude. \nEn savoir plus sur le collectif (document PDF)
URL:https://ville-figeac.fr/actualite/festival-de-laine-avec-la-draille
LOCATION:Espace François Mitterrand\, Place Philibert Renaud\, Figeac\, 46100
ATTACH;FMTTYPE=image/jpeg:https://ville-figeac.fr/wp-content/uploads/2026/01/2026-salon-laine-ville-figeac.jpg
ORGANIZER;CN="La Draille Collectif de lainiers lotois":MAILTO:la.dralha.boutique@gmail.com
GEO:44.61217;2.0349341
X-APPLE-STRUCTURED-LOCATION;VALUE=URI;X-ADDRESS=Espace François Mitterrand Place Philibert Renaud Figeac 46100;X-APPLE-RADIUS=500;X-TITLE=Place Philibert Renaud:geo:2.0349341,44.61217
END:VEVENT
BEGIN:VEVENT
DTSTART;TZID=Europe/Paris:20260610T200000
DTEND;TZID=Europe/Paris:20260611T213000
DTSTAMP:20260425T025718
CREATED:20260226T070028Z
LAST-MODIFIED:20260402T064234Z
UID:10003897-1781121600-1781213400@ville-figeac.fr
SUMMARY:Concert/spectacle de fin d’année par l'Ecole Intercommunale de Musique et Théâtre de Figeac
DESCRIPTION:L’Ecole Intercommunale de Musique et Théâtre de Figeac propose : « Molière en Musique ! » \nQuand le théâtre rencontre la mélodie… Plongez dans l’univers de Molière en Musique ! Un spectacle vibrant mêlant : Théâtre\, Chant\, Musique traditionnelle et actuelle. Le théâtre de Molière s’invite sur scène en Musique le mercredi 10 juin à 20h à l’Espace François Mitterrand pour une soirée inoubliable.  \nUn spectacle vibrant mêlant : \n\nThéâtre\nchant\nMusique Traditionnelle et actuelle\n\nParticipation libre \n 
URL:https://ville-figeac.fr/actualite/concert-spectacle-de-fin-dannee-par-lecole-intercommunale-de-musique-et-theatre-de-figeac
LOCATION:Espace François Mitterrand\, Place Philibert Renaud\, Figeac\, 46100
ATTACH;FMTTYPE=image/png:https://ville-figeac.fr/wp-content/uploads/2024/05/2026-spectacle-theatre-ville-figeac.png
ORGANIZER;CN="Ecole Intercommunale Musique et Th%C3%A9%C3%A2tre de Figeac":MAILTO:administration@eim-figeac.fr
GEO:44.61217;2.0349341
X-APPLE-STRUCTURED-LOCATION;VALUE=URI;X-ADDRESS=Espace François Mitterrand Place Philibert Renaud Figeac 46100;X-APPLE-RADIUS=500;X-TITLE=Place Philibert Renaud:geo:2.0349341,44.61217
END:VEVENT
BEGIN:VEVENT
DTSTART;TZID=Europe/Paris:20260613T090000
DTEND;TZID=Europe/Paris:20260613T170000
DTSTAMP:20260425T025718
CREATED:20260420T060000Z
LAST-MODIFIED:20260420T081711Z
UID:10003545-1781341200-1781370000@ville-figeac.fr
SUMMARY:Forum santé handicap autonomie 2026
DESCRIPTION:Le 4eme forum Santé-Handicap-Autonomie aura lieu le samedi 13 juin dans les jardins de l’hôpital de Figeac de 9h-17h.\n(en cas de météo capricieuse le forum aura lieu à l’Espace F Mitterrand) \nCe forum est à l’initiative des représentants des usagers du CH de Figeac. \nCes associations de santé visent à représenter les usagers\, les personnes atteintes par un handicap ou une maladie et leurs proches. \nCette année\, 2 tables rondes avec intervenant(e)s spécialisé(e)s seront ouvertes au public \nDes animations musicales sont prévues tout au long de la journée. \n  \n 
URL:https://ville-figeac.fr/actualite/forum-sante-handicap-autonomie
LOCATION:Jardin de l’Hôpital\, 1 Esplanade Martin Malvy\, Figeac
CATEGORIES:Solidarité
ATTACH;FMTTYPE=image/jpeg:https://ville-figeac.fr/wp-content/uploads/2025/01/AffA3ForumSanteFigeacEdition3-scaled.jpg
ORGANIZER;CN="Commission des usagers de l'H%C3%B4pital":MAILTO:cduchfigeac@gmail.com
GEO:44.6105407;2.0282174
X-APPLE-STRUCTURED-LOCATION;VALUE=URI;X-ADDRESS=Jardin de l’Hôpital 1 Esplanade Martin Malvy Figeac;X-APPLE-RADIUS=500;X-TITLE=1 Esplanade Martin Malvy:geo:2.0282174,44.6105407
END:VEVENT
END:VCALENDAR